BEGIN:VCALENDAR
VERSION:2.0
PRODID:-//hacksw/handcal//NONSGML v1.0//EN
CALSCALE:GREGORIAN
BEGIN:VEVENT
DTSTART:20180419T173000
DTEND:20180419T183000
SUMMARY:Tai Chi
DESCRIPTION:
LOCATION:High St 
URL;VALUE=URI:
DTSTAMP:20180126T045828
UID:5a69fea4e15e2
END:VEVENT
END:VCALENDAR