BEGIN:VCALENDAR
VERSION:2.0
PRODID:-//hacksw/handcal//NONSGML v1.0//EN
CALSCALE:GREGORIAN
BEGIN:VEVENT
DTSTART:20180421T111500
DTEND:20180421T121500
SUMMARY:Tai Chi
DESCRIPTION:
LOCATION:Blind Institute 
URL;VALUE=URI:
DTSTAMP:20180126T045830
UID:5a69fea6cc344
END:VEVENT
END:VCALENDAR