BEGIN:VCALENDAR
VERSION:2.0
PRODID:-//hacksw/handcal//NONSGML v1.0//EN
CALSCALE:GREGORIAN
BEGIN:VEVENT
DTSTART:20180424T115000
DTEND:20180424T123000
SUMMARY:Check Webserver Webdrive
DESCRIPTION:
LOCATION: 
URL;VALUE=URI:
DTSTAMP:20180126T045833
UID:5a69fea9dd496
END:VEVENT
END:VCALENDAR