BEGIN:VCALENDAR
VERSION:2.0
PRODID:-//hacksw/handcal//NONSGML v1.0//EN
CALSCALE:GREGORIAN
BEGIN:VEVENT
DTSTART:20180424T143000
DTEND:20180424T143500
SUMMARY:Check ganglia
DESCRIPTION:
LOCATION: 
URL;VALUE=URI:
DTSTAMP:20180126T045836
UID:5a69feac1ba0d
END:VEVENT
END:VCALENDAR