BEGIN:VCALENDAR
VERSION:2.0
PRODID:-//hacksw/handcal//NONSGML v1.0//EN
CALSCALE:GREGORIAN
BEGIN:VEVENT
DTSTART:20180425T140500
DTEND:20180425T150000
SUMMARY:Check Ganglia
DESCRIPTION:
LOCATION:Webserver 
URL;VALUE=URI:
DTSTAMP:20180126T045838
UID:5a69feae027a4
END:VEVENT
END:VCALENDAR