BEGIN:VCALENDAR
VERSION:2.0
PRODID:-//hacksw/handcal//NONSGML v1.0//EN
CALSCALE:GREGORIAN
BEGIN:VEVENT
DTSTART:20180426T173000
DTEND:20180426T183000
SUMMARY:Tai Chi
DESCRIPTION:
LOCATION:High St 
URL;VALUE=URI:
DTSTAMP:20180126T045842
UID:5a69feb22378c
END:VEVENT
END:VCALENDAR