BEGIN:VCALENDAR
VERSION:2.0
PRODID:-//hacksw/handcal//NONSGML v1.0//EN
CALSCALE:GREGORIAN
BEGIN:VEVENT
DTSTART:20180428T111500
DTEND:20180428T121500
SUMMARY:Tai Chi
DESCRIPTION:
LOCATION:Blind Institute 
URL;VALUE=URI:
DTSTAMP:20180126T045844
UID:5a69feb41c99c
END:VEVENT
END:VCALENDAR