BEGIN:VCALENDAR
VERSION:2.0
PRODID:-//hacksw/handcal//NONSGML v1.0//EN
CALSCALE:GREGORIAN
BEGIN:VEVENT
DTSTART:20180501T115000
DTEND:20180501T123000
SUMMARY:Check Webserver Webdrive
DESCRIPTION:
LOCATION: 
URL;VALUE=URI:
DTSTAMP:20180126T045846
UID:5a69feb63ec9a
END:VEVENT
END:VCALENDAR