BEGIN:VCALENDAR
VERSION:2.0
PRODID:-//hacksw/handcal//NONSGML v1.0//EN
CALSCALE:GREGORIAN
BEGIN:VEVENT
DTSTART:20180501T143000
DTEND:20180501T143500
SUMMARY:Check ganglia
DESCRIPTION:
LOCATION: 
URL;VALUE=URI:
DTSTAMP:20180126T045849
UID:5a69feb90c0a2
END:VEVENT
END:VCALENDAR