BEGIN:VCALENDAR
VERSION:2.0
PRODID:-//hacksw/handcal//NONSGML v1.0//EN
CALSCALE:GREGORIAN
BEGIN:VEVENT
DTSTART:20180502T140500
DTEND:20180502T150000
SUMMARY:Check Ganglia
DESCRIPTION:
LOCATION:Webserver 
URL;VALUE=URI:
DTSTAMP:20180126T045852
UID:5a69febc0c6e2
END:VEVENT
END:VCALENDAR