BEGIN:VCALENDAR
VERSION:2.0
PRODID:-//hacksw/handcal//NONSGML v1.0//EN
CALSCALE:GREGORIAN
BEGIN:VEVENT
DTSTART:20180502T180000
DTEND:20180502T213000
SUMMARY:Dinner
DESCRIPTION:
LOCATION:Parents 
URL;VALUE=URI:
DTSTAMP:20180126T045854
UID:5a69febe4cb8a
END:VEVENT
END:VCALENDAR